BEGIN:VCALENDAR
VERSION:2.0
PRODID:-//wp-events-plugin.com//7.2.3.1//EN
BEGIN:VEVENT
UID:5@myriamvilla.com
DTSTART:20231021T160000Z
DTEND:20231021T220000Z
DTSTAMP:20240131T142519Z
URL:https://www.myriamvilla.com/events/21102023-annual-enrollment-period-m
 edicare-booth/
SUMMARY:Annual Enrollment Period Medicare Booth
DESCRIPTION:Speak to a local licensed Medicare Agent\n\n
LOCATION:Walmart Supercenter\, 8250 Razorback Rd\, Colorado Springs\, Color
 ado\, 80920\, United States
X-APPLE-STRUCTURED-LOCATION;VALUE=URI;X-ADDRESS=8250 Razorback Rd\, Colorad
 o Springs\, Colorado\, 80920\, United States;X-APPLE-RADIUS=100;X-TITLE=Wa
 lmart Supercenter:geo:0,0
END:VEVENT
END:VCALENDAR